BEGIN:VCALENDAR
VERSION:2.0
PRODID:icalendar-ruby
CALSCALE:GREGORIAN
METHOD:PUBLISH
BEGIN:VEVENT
DTSTAMP:20260425T210139Z
UID:12-1889193@brbcmichiana.com
DTSTART:20261011T143000Z
DTEND:20261011T151500Z
CLASS:PUBLIC
CREATED:20260425T150000
DESCRIPTION:
LAST-MODIFIED:20260425T150000
LOCATION:
SUMMARY:Sunday school
URL;VALUE=URI:https://www.brbcmichiana.com/events/sunday-school/2026-10-11
ATTACH;FILENAME=60657-bible-teaching-1200.jpg;FMTTYPE=image/jpeg:https://dq
 5pwpg1q8ru0.cloudfront.net/2020/11/04/11/55/36/e3644207-27ce-4b82-9fb4-faf
 6a26cdebb/60657-bible-teaching-1200.jpg
END:VEVENT
END:VCALENDAR
