BEGIN:VCALENDAR
VERSION:2.0
PRODID:icalendar-ruby
CALSCALE:GREGORIAN
METHOD:PUBLISH
BEGIN:VEVENT
DTSTAMP:20260425T234154Z
UID:34-1891132@brbcmichiana.com
DTSTART:20261025T173000Z
DTEND:20261025T184000Z
CLASS:PUBLIC
CREATED:20260425T174211
DESCRIPTION:
LAST-MODIFIED:20260425T174211
LOCATION:
SUMMARY:Fellowship Lunch
URL;VALUE=URI:https://www.brbcmichiana.com/events/fellowship-lunch--34/2026
 -10-25
ATTACH;FILENAME=dac1c1c36ae934a9c57248968966a324-672x372.jpg;FMTTYPE=image/
 jpeg:https://dq5pwpg1q8ru0.cloudfront.net/2022/02/23/07/48/09/129efd74-b64
 b-489a-8559-04eba7f54e49/dac1c1c36ae934a9c57248968966a324-672x372.jpg
END:VEVENT
END:VCALENDAR
